BEGIN:VCALENDAR
VERSION:2.0
PRODID:-//Schönstattwerk Würzburg e.V. - ECPv6.15.17//NONSGML v1.0//EN
CALSCALE:GREGORIAN
METHOD:PUBLISH
X-ORIGINAL-URL:https://schoenstatt-wuerzburg.de
X-WR-CALDESC:Veranstaltungen für Schönstattwerk Würzburg e.V.
REFRESH-INTERVAL;VALUE=DURATION:PT1H
X-Robots-Tag:noindex
X-PUBLISHED-TTL:PT1H
BEGIN:VTIMEZONE
TZID:Europe/Berlin
BEGIN:DAYLIGHT
TZOFFSETFROM:+0100
TZOFFSETTO:+0200
TZNAME:CEST
DTSTART:20240331T010000
END:DAYLIGHT
BEGIN:STANDARD
TZOFFSETFROM:+0200
TZOFFSETTO:+0100
TZNAME:CET
DTSTART:20241027T010000
END:STANDARD
BEGIN:DAYLIGHT
TZOFFSETFROM:+0100
TZOFFSETTO:+0200
TZNAME:CEST
DTSTART:20250330T010000
END:DAYLIGHT
BEGIN:STANDARD
TZOFFSETFROM:+0200
TZOFFSETTO:+0100
TZNAME:CET
DTSTART:20251026T010000
END:STANDARD
BEGIN:DAYLIGHT
TZOFFSETFROM:+0100
TZOFFSETTO:+0200
TZNAME:CEST
DTSTART:20260329T010000
END:DAYLIGHT
BEGIN:STANDARD
TZOFFSETFROM:+0200
TZOFFSETTO:+0100
TZNAME:CET
DTSTART:20261025T010000
END:STANDARD
END:VTIMEZONE
BEGIN:VEVENT
DTSTART;TZID=Europe/Berlin:20250305T173000
DTEND;TZID=Europe/Berlin:20250309T140000
DTSTAMP:20260424T103927
CREATED:20250219T182923Z
LAST-MODIFIED:20250219T182923Z
UID:10000279-1741195800-1741528800@schoenstatt-wuerzburg.de
SUMMARY:Gruppenleiterschulung smj
DESCRIPTION:Zeltlager\, Gruppentreffen oder Gemeinschaftswochenenden sind wichtige Erfahrungen. Du konntest sie erleben\, weil Gruppenleiter sie vorbereitet und durchgeführt haben. Nun bittet dich deine Diözese bzw. deine Abteilung Gruppenleiter zu werden. Das nötige Handwerkszeug dafür bietet diese Gruppenleiterschulung im Schönstattzentrum Würzburg\, vorbereitet durch ein Team von erfahrenen Gruppenleitern aus der Schönstattjugend aus ganz Bayern. Auf Fragen wie zum Beispiel\n• Was muss ich über den Umgang mit Jüngern wissen?\n• Wie kann ich bei ihnen Begeisterung wecken?\n• Wie kommt es zu Machtmissbrauch in der Jugendarbeit?\n• Was tun wir dagegen?\nwerden wir gemeinsame Antworten suchen und erarbeiten.\nDiese Gruppenleiterschulung kann für Dich zu einer echten Chance werden. \nWeitere Infos: SMJ Flyer Gruppenleiter 2025
URL:https://schoenstatt-wuerzburg.de/event/gruppenleiterschulung-smj/
LOCATION:Schönstattzentrum Würzburg
END:VEVENT
BEGIN:VEVENT
DTSTART;TZID=Europe/Berlin:20250306T183000
DTEND;TZID=Europe/Berlin:20250306T210000
DTSTAMP:20260424T103927
CREATED:20250128T160917Z
LAST-MODIFIED:20250129T190339Z
UID:10000266-1741285800-1741294800@schoenstatt-wuerzburg.de
SUMMARY:Thema "angesehen" - Frühjahrstreffen 2025
DESCRIPTION:Herzliche Einladung\, beim Frühjahrstreffen neu einzutauchen in die persönliche Würde\, die Gott uns schenkt\, und die wir einander spüren lassen wollen. \nWeitere Infos: Frühjahrstreffen 2025
URL:https://schoenstatt-wuerzburg.de/event/thema-angesehen-fruehjahrstreffen-2025-copy-3-copy/
LOCATION:Pfarrheim Haibach
ATTACH;FMTTYPE=image/jpeg:https://schoenstatt-wuerzburg.de/wp-content/uploads/2025/01/Fruehjahrstreffen_Symbolbild.jpg
END:VEVENT
BEGIN:VEVENT
DTSTART;TZID=Europe/Berlin:20250309T150000
DTEND;TZID=Europe/Berlin:20250309T170000
DTSTAMP:20260424T103927
CREATED:20250128T150941Z
LAST-MODIFIED:20250128T151135Z
UID:10000254-1741532400-1741539600@schoenstatt-wuerzburg.de
SUMMARY:Miteinander unterwegs zum Osterfest
DESCRIPTION:Werkstatt in der Fastenzeit\nfür Kindergarten- und Grundschulkinder mit ihren Eltern und Großeltern \nZwischen 15:00 und 16:30 Uhr gibt es angeleitete Kreativangebote\, z.B. Osterkerzen verzieren\, Osterkörbchen basteln\, …\nAnschließend begleiten wir Jesus (kindgerecht gestaltet) auf seinem Kreuzweg.\nEin Besuch an der Schönstattkapelle rundet den Nachmittag ab. \nWeitere Infos: Flyer Osterwiese 2025
URL:https://schoenstatt-wuerzburg.de/event/miteinander-unterwegs-zum-osterfest-2/
LOCATION:Schönstattzentrum Würzburg
ATTACH;FMTTYPE=image/jpeg:https://schoenstatt-wuerzburg.de/wp-content/uploads/2025/01/Symbolbild_Osterwiese-scaled.jpg
END:VEVENT
BEGIN:VEVENT
DTSTART;TZID=Europe/Berlin:20250310T150000
DTEND;TZID=Europe/Berlin:20250310T180000
DTSTAMP:20260424T103927
CREATED:20250128T155325Z
LAST-MODIFIED:20250129T191635Z
UID:10000261-1741618800-1741629600@schoenstatt-wuerzburg.de
SUMMARY:Thema "angesehen" - Frühjahrstreffen 2025
DESCRIPTION:Herzliche Einladung\, beim Frühjahrstreffen neu einzutauchen in die persönliche Würde\, die Gott uns schenkt\, und die wir einander spüren lassen wollen. \nWeitere Infos: Frühjahrstreffen 2025
URL:https://schoenstatt-wuerzburg.de/event/thema-angesehen-fruehjahrstreffen-2025-copy/
LOCATION:Pfarrheim Burgsinn
ATTACH;FMTTYPE=image/jpeg:https://schoenstatt-wuerzburg.de/wp-content/uploads/2025/01/Fruehjahrstreffen_Symbolbild.jpg
END:VEVENT
BEGIN:VEVENT
DTSTART;TZID=Europe/Berlin:20250311T140000
DTEND;TZID=Europe/Berlin:20250311T170000
DTSTAMP:20260424T103927
CREATED:20250128T155752Z
LAST-MODIFIED:20250129T191546Z
UID:10000262-1741701600-1741712400@schoenstatt-wuerzburg.de
SUMMARY:Thema "angesehen" - Frühjahrstreffen 2025
DESCRIPTION:Herzliche Einladung\, beim Frühjahrstreffen neu einzutauchen in die persönliche Würde\, die Gott uns schenkt\, und die wir einander spüren lassen wollen. \nWeitere Infos: Frühjahrstreffen 2025
URL:https://schoenstatt-wuerzburg.de/event/thema-angesehen-fruehjahrstreffen-2025-copy-copy/
LOCATION:Pfarrheim Niederwerrn
ATTACH;FMTTYPE=image/jpeg:https://schoenstatt-wuerzburg.de/wp-content/uploads/2025/01/Fruehjahrstreffen_Symbolbild.jpg
END:VEVENT
BEGIN:VEVENT
DTSTART;TZID=Europe/Berlin:20250312T093000
DTEND;TZID=Europe/Berlin:20250312T170000
DTSTAMP:20260424T103927
CREATED:20250128T144723Z
LAST-MODIFIED:20250128T144723Z
UID:10000252-1741771800-1741798800@schoenstatt-wuerzburg.de
SUMMARY:Besinnungstag in der Fastenzeit
DESCRIPTION:mit Lichter-Rosenkranz. \nauftanken – durchatmen – Zeit haben füreinander und für Gott \nWeitere Infos: Besinnungstag_März 2025
URL:https://schoenstatt-wuerzburg.de/event/besinnungstag-in-der-fastenzeit/
LOCATION:Schönstattzentrum Würzburg
ATTACH;FMTTYPE=image/jpeg:https://schoenstatt-wuerzburg.de/wp-content/uploads/2025/01/Symbolbild_Besinnungstag.jpg
END:VEVENT
BEGIN:VEVENT
DTSTART;TZID=Europe/Berlin:20250312T140000
DTEND;TZID=Europe/Berlin:20250312T170000
DTSTAMP:20260424T103927
CREATED:20250128T160036Z
LAST-MODIFIED:20250129T191434Z
UID:10000263-1741788000-1741798800@schoenstatt-wuerzburg.de
SUMMARY:Thema "angesehen" - Frühjahrstreffen 2025
DESCRIPTION:Herzliche Einladung\, beim Frühjahrstreffen neu einzutauchen in die persönliche Würde\, die Gott uns schenkt\, und die wir einander spüren lassen wollen. \nWeitere Infos: Frühjahrstreffen 2025
URL:https://schoenstatt-wuerzburg.de/event/thema-angesehen-fruehjahrstreffen-2025-copy-copy-2/
LOCATION:Pfarrheim Hammelburg
ATTACH;FMTTYPE=image/jpeg:https://schoenstatt-wuerzburg.de/wp-content/uploads/2025/01/Fruehjahrstreffen_Symbolbild.jpg
END:VEVENT
BEGIN:VEVENT
DTSTART;TZID=Europe/Berlin:20250313T133000
DTEND;TZID=Europe/Berlin:20250313T173000
DTSTAMP:20260424T103927
CREATED:20250128T160654Z
LAST-MODIFIED:20250129T191329Z
UID:10000265-1741872600-1741887000@schoenstatt-wuerzburg.de
SUMMARY:Thema "angesehen" - Frühjahrstreffen 2025
DESCRIPTION:Herzliche Einladung\, beim Frühjahrstreffen neu einzutauchen in die persönliche Würde\, die Gott uns schenkt\, und die wir einander spüren lassen wollen. \nWeitere Infos: Frühjahrstreffen 2025
URL:https://schoenstatt-wuerzburg.de/event/thema-angesehen-fruehjahrstreffen-2025-copy-3/
LOCATION:St. Gertrud Aschaffenburg
ATTACH;FMTTYPE=image/jpeg:https://schoenstatt-wuerzburg.de/wp-content/uploads/2025/01/Fruehjahrstreffen_Symbolbild.jpg
END:VEVENT
BEGIN:VEVENT
DTSTART;TZID=Europe/Berlin:20250314T143000
DTEND;TZID=Europe/Berlin:20250314T183000
DTSTAMP:20260424T103927
CREATED:20250128T161145Z
LAST-MODIFIED:20250128T161351Z
UID:10000267-1741962600-1741977000@schoenstatt-wuerzburg.de
SUMMARY:Thema "angesehen" - Frühjahrstreffen 2025
DESCRIPTION:Herzliche Einladung\, beim Frühjahrstreffen neu einzutauchen in die persönliche Würde\, die Gott uns schenkt\, und die wir einander spüren lassen wollen. \nWeitere Infos: Frühjahrstreffen 2025
URL:https://schoenstatt-wuerzburg.de/event/thema-angesehen-fruehjahrstreffen-2025-copy-4/
LOCATION:Pfarrheim Stockstadt
ATTACH;FMTTYPE=image/jpeg:https://schoenstatt-wuerzburg.de/wp-content/uploads/2025/01/Fruehjahrstreffen_Symbolbild.jpg
END:VEVENT
BEGIN:VEVENT
DTSTART;TZID=Europe/Berlin:20250315T140000
DTEND;TZID=Europe/Berlin:20250315T180000
DTSTAMP:20260424T103927
CREATED:20250128T154655Z
LAST-MODIFIED:20250129T191214Z
UID:10000260-1742047200-1742061600@schoenstatt-wuerzburg.de
SUMMARY:Thema "angesehen" - Frühjahrstreffen 2025
DESCRIPTION:Herzliche Einladung\, beim Frühjahrstreffen neu einzutauchen in die persönliche Würde\, die Gott uns schenkt\, und die wir einander spüren lassen wollen. \nWeitere Infos: Frühjahrstreffen 2025
URL:https://schoenstatt-wuerzburg.de/event/thema-angesehen-fruehjahrstreffen-2025/
LOCATION:Schönstattzentrum Würzburg
ATTACH;FMTTYPE=image/jpeg:https://schoenstatt-wuerzburg.de/wp-content/uploads/2025/01/Fruehjahrstreffen_Symbolbild.jpg
END:VEVENT
BEGIN:VEVENT
DTSTART;TZID=Europe/Berlin:20250317T140000
DTEND;TZID=Europe/Berlin:20250317T170000
DTSTAMP:20260424T103927
CREATED:20250128T163017Z
LAST-MODIFIED:20250129T191107Z
UID:10000269-1742220000-1742230800@schoenstatt-wuerzburg.de
SUMMARY:Thema "angesehen" - Frühjahrstreffen 2025
DESCRIPTION:Herzliche Einladung\, beim Frühjahrstreffen neu einzutauchen in die persönliche Würde\, die Gott uns schenkt\, und die wir einander spüren lassen wollen. \nWeitere Infos: Frühjahrstreffen 2025
URL:https://schoenstatt-wuerzburg.de/event/thema-angesehen-fruehjahrstreffen-2025-copy-2-copy/
LOCATION:Pfr. Marschall-Haus Dammbach
ATTACH;FMTTYPE=image/jpeg:https://schoenstatt-wuerzburg.de/wp-content/uploads/2025/01/Fruehjahrstreffen_Symbolbild.jpg
END:VEVENT
BEGIN:VEVENT
DTSTART;TZID=Europe/Berlin:20250318T190000
DTEND;TZID=Europe/Berlin:20250318T213000
DTSTAMP:20260424T103927
CREATED:20250128T161455Z
LAST-MODIFIED:20250129T190950Z
UID:10000268-1742324400-1742333400@schoenstatt-wuerzburg.de
SUMMARY:Thema "angesehen" - Frühjahrstreffen 2025
DESCRIPTION:Herzliche Einladung\, beim Frühjahrstreffen neu einzutauchen in die persönliche Würde\, die Gott uns schenkt\, und die wir einander spüren lassen wollen. \nWeitere Infos: Frühjahrstreffen 2025
URL:https://schoenstatt-wuerzburg.de/event/thema-angesehen-fruehjahrstreffen-2025-copy-5/
LOCATION:Pfarrheim Krombach
ATTACH;FMTTYPE=image/jpeg:https://schoenstatt-wuerzburg.de/wp-content/uploads/2025/01/Fruehjahrstreffen_Symbolbild.jpg
END:VEVENT
BEGIN:VEVENT
DTSTART;TZID=Europe/Berlin:20250319T084500
DTEND;TZID=Europe/Berlin:20250319T113000
DTSTAMP:20260424T103927
CREATED:20250107T171827Z
LAST-MODIFIED:20250207T155857Z
UID:10000224-1742373900-1742383800@schoenstatt-wuerzburg.de
SUMMARY:Frühstückstreffen für Frauen
DESCRIPTION:Thema: „Ein gutes Gewissen ist ein sanftes Ruhekissen“ \nGönnen Sie sich eine kleine AUSZEIT – Entspannung mitten im Alltag.\nDas Frühstückstreffen möchte Ihnen dazu Gelegenheit bieten.\nIn gelockerter Atmosphäre können Sie ein reichhaltiges Frühstücksbuffet genießen.\nDer anschließende Impuls und der Austausch untereinander sollen eine Stärkung für die Seele sein. \nWeitere Infos: Flyer Frauenfrühstück 2025
URL:https://schoenstatt-wuerzburg.de/event/fruehstueckstreffen-fuer-frauen-2-copy-copy-3-copy-copy-copy-copy/
LOCATION:Schönstattzentrum Würzburg
ATTACH;FMTTYPE=image/jpeg:https://schoenstatt-wuerzburg.de/wp-content/uploads/2025/01/Symbolbild-Frauenfruehstueck-2025-scaled.jpg
END:VEVENT
BEGIN:VEVENT
DTSTART;TZID=Europe/Berlin:20250320T084500
DTEND;TZID=Europe/Berlin:20250320T113000
DTSTAMP:20260424T103927
CREATED:20250107T171507Z
LAST-MODIFIED:20250207T155745Z
UID:10000223-1742460300-1742470200@schoenstatt-wuerzburg.de
SUMMARY:Frühstückstreffen für Frauen
DESCRIPTION:Thema: „Ein gutes Gewissen ist ein sanftes Ruhekissen“ \nGönnen Sie sich eine kleine AUSZEIT – Entspannung mitten im Alltag.\nDas Frühstückstreffen möchte Ihnen dazu Gelegenheit bieten.\nIn gelockerter Atmosphäre können Sie ein reichhaltiges Frühstücksbuffet genießen.\nDer anschließende Impuls und der Austausch untereinander sollen eine Stärkung für die Seele sein. \nWeitere Infos: Flyer Frauenfrühstück 2025
URL:https://schoenstatt-wuerzburg.de/event/fruehstueckstreffen-fuer-frauen-2-copy-copy-3-copy-copy-copy/
LOCATION:Schönstattzentrum Würzburg
ATTACH;FMTTYPE=image/jpeg:https://schoenstatt-wuerzburg.de/wp-content/uploads/2025/01/Symbolbild-Frauenfruehstueck-2025-scaled.jpg
END:VEVENT
BEGIN:VEVENT
DTSTART;TZID=Europe/Berlin:20250328T180000
DTEND;TZID=Europe/Berlin:20250330T120000
DTSTAMP:20260424T103927
CREATED:20250305T085834Z
LAST-MODIFIED:20250305T090834Z
UID:10000280-1743184800-1743336000@schoenstatt-wuerzburg.de
SUMMARY:Der Fall: Die verschwundene Krone
DESCRIPTION:Wochenende für Mädchen von 9 bis 12 Jahren. \nDu hast Lust\, mit uns einen spannenden Detektivfall zu lösen? Dich erwartet Spiel und Spaß\, gemeinsames Singen und Beten. Mit deiner Hilfe schaffen wir es bestimmt\, den Fall zu lösen.\nWir freuen uns auf Dich! \nWeitere Infos: Flyer Frühlingstreffen 2025 MJF \n  \n  \n 
URL:https://schoenstatt-wuerzburg.de/event/der-fall-die-verschwundene-krone/
LOCATION:Schönstattzentrum Marienberg Scheßlitz
ATTACH;FMTTYPE=image/jpeg:https://schoenstatt-wuerzburg.de/wp-content/uploads/2025/03/Fruehlingstreffen-Einladung-Vorderseite.jpg
END:VEVENT
BEGIN:VEVENT
DTSTART;TZID=Europe/Berlin:20250328T190000
DTEND;TZID=Europe/Berlin:20250328T210000
DTSTAMP:20260424T103927
CREATED:20250128T160449Z
LAST-MODIFIED:20250129T190710Z
UID:10000264-1743188400-1743195600@schoenstatt-wuerzburg.de
SUMMARY:Thema "angesehen" - Frühjahrstreffen 2025
DESCRIPTION:Herzliche Einladung\, beim Frühjahrstreffen neu einzutauchen in die persönliche Würde\, die Gott uns schenkt\, und die wir einander spüren lassen wollen. \nWeitere Infos: Frühjahrstreffen 2025
URL:https://schoenstatt-wuerzburg.de/event/thema-angesehen-fruehjahrstreffen-2025-copy-2/
LOCATION:Vereinsheim Bessenbach
ATTACH;FMTTYPE=image/jpeg:https://schoenstatt-wuerzburg.de/wp-content/uploads/2025/01/Fruehjahrstreffen_Symbolbild.jpg
END:VEVENT
BEGIN:VEVENT
DTSTART;TZID=Europe/Berlin:20250330T150000
DTEND;TZID=Europe/Berlin:20250330T170000
DTSTAMP:20260424T103927
CREATED:20250128T151241Z
LAST-MODIFIED:20250128T151416Z
UID:10000255-1743346800-1743354000@schoenstatt-wuerzburg.de
SUMMARY:Miteinander unterwegs zum Osterfest
DESCRIPTION:Werkstatt in der Fastenzeit\nfür Kindergarten- und Grundschulkinder mit ihren Eltern und Großeltern \nZwischen 15:00 und 16:30 Uhr gibt es angeleitete Kreativangebote\, z.B. Osterkerzen verzieren\, Osterkörbchen basteln\, …\nAnschließend begleiten wir Jesus (kindgerecht gestaltet) auf seinem Kreuzweg.\nEin Besuch an der Schönstattkapelle rundet den Nachmittag ab. \nWeitere Infos: Flyer Osterwiese 2025
URL:https://schoenstatt-wuerzburg.de/event/miteinander-unterwegs-zum-osterfest-2-copy/
LOCATION:Schönstattzentrum Würzburg
ATTACH;FMTTYPE=image/jpeg:https://schoenstatt-wuerzburg.de/wp-content/uploads/2025/01/Symbolbild_Osterwiese-scaled.jpg
END:VEVENT
END:VCALENDAR