BEGIN:VCALENDAR
VERSION:2.0
PRODID:-//Schönstattwerk Würzburg e.V. - ECPv6.15.17//NONSGML v1.0//EN
CALSCALE:GREGORIAN
METHOD:PUBLISH
X-ORIGINAL-URL:https://schoenstatt-wuerzburg.de
X-WR-CALDESC:Veranstaltungen für Schönstattwerk Würzburg e.V.
REFRESH-INTERVAL;VALUE=DURATION:PT1H
X-Robots-Tag:noindex
X-PUBLISHED-TTL:PT1H
BEGIN:VTIMEZONE
TZID:Europe/Berlin
BEGIN:DAYLIGHT
TZOFFSETFROM:+0100
TZOFFSETTO:+0200
TZNAME:CEST
DTSTART:20230326T010000
END:DAYLIGHT
BEGIN:STANDARD
TZOFFSETFROM:+0200
TZOFFSETTO:+0100
TZNAME:CET
DTSTART:20231029T010000
END:STANDARD
BEGIN:DAYLIGHT
TZOFFSETFROM:+0100
TZOFFSETTO:+0200
TZNAME:CEST
DTSTART:20240331T010000
END:DAYLIGHT
BEGIN:STANDARD
TZOFFSETFROM:+0200
TZOFFSETTO:+0100
TZNAME:CET
DTSTART:20241027T010000
END:STANDARD
BEGIN:DAYLIGHT
TZOFFSETFROM:+0100
TZOFFSETTO:+0200
TZNAME:CEST
DTSTART:20250330T010000
END:DAYLIGHT
BEGIN:STANDARD
TZOFFSETFROM:+0200
TZOFFSETTO:+0100
TZNAME:CET
DTSTART:20251026T010000
END:STANDARD
END:VTIMEZONE
BEGIN:VEVENT
DTSTART;TZID=Europe/Berlin:20240705T180000
DTEND;TZID=Europe/Berlin:20240707T130000
DTSTAMP:20260421T100728
CREATED:20240329T185008Z
LAST-MODIFIED:20240329T190800Z
UID:10000186-1720202400-1720357200@schoenstatt-wuerzburg.de
SUMMARY:Familien-Camp - Baustelle Familie
DESCRIPTION:Das Leben ist eine Baustelle – und das Familienleben sowieso! Eine Familie bietet immer wieder neue Überraschungen und Herausforderungen. Ständige Umbaumaßnahmen\, je nach Alter der Kinder\, sind erforderlich. Und wo ist unser Platz als Paar?\nWir wollen am Wochenende unser „Familienhaus“ weiterbauen und Gott als Fundament unserer Familie erfahren. \nWeitere Informationen entnehmen Sie bitte dem Flyer zum Download. \nFlyer Familiencamp
URL:https://schoenstatt-wuerzburg.de/event/familien-camp-baustelle-familie/
LOCATION:Schönstattzentrum Würzburg
END:VEVENT
BEGIN:VEVENT
DTSTART;TZID=Europe/Berlin:20240713T093000
DTEND;TZID=Europe/Berlin:20240713T163000
DTSTAMP:20260421T100728
CREATED:20240509T070656Z
LAST-MODIFIED:20240509T070656Z
UID:10000189-1720863000-1720888200@schoenstatt-wuerzburg.de
SUMMARY:Sommertag 2024 für Mädchen von 6-10 Jahren
DESCRIPTION:Rapunzel – stark wie nie – Nicht aufgeben ist das Ziel \nWeitere Informationen findest du im Flyer zum Download. Klicke auf den folgenden Link: \nSommertag 2024
URL:https://schoenstatt-wuerzburg.de/event/sommertag-2024-fuer-maedchen-von-6-10-jahren/
LOCATION:Schönstattzentrum Würzburg
ATTACH;FMTTYPE=image/png:https://schoenstatt-wuerzburg.de/wp-content/uploads/2024/05/Bildschirmfoto-2024-05-09-um-09.05.42.png
END:VEVENT
BEGIN:VEVENT
DTSTART;TZID=Europe/Berlin:20240717T084500
DTEND;TZID=Europe/Berlin:20240717T113000
DTSTAMP:20260421T100728
CREATED:20240109T153040Z
LAST-MODIFIED:20240109T153337Z
UID:10000124-1721205900-1721215800@schoenstatt-wuerzburg.de
SUMMARY:Frühstückstreffen für Frauen
DESCRIPTION:Thema: Froh zu sein bedarf es wenig \nWenn die Saite eines Instrumentes immer gespannt ist\, verliert sie ihren klaren Klang.\nGönnen Sie sich eine kleine AUSZEIT. Auch uns tut Entspannung im Alltag gut. Die\nFrühstückstreffen möchten Ihnen dazu Gelegenheit bieten.\nIn gelockerter Atmosphäre können wir ein reichhaltiges Frühstücksbuffet genießen\, uns\nmiteinander für Leib und Seele stärken – und uns mit anderen Frauen austauschen. \nWeitere Informationen entnehmen Sie bitte dem Flyer zum Download. \nFlyer Frauenfrühstück 2024 \n 
URL:https://schoenstatt-wuerzburg.de/event/798-fruehstueckstreffen-fuer-frauen-copy-copy-copy-copy-copy-copy/2024-07-17/
LOCATION:Schönstattzentrum Würzburg
ATTACH;FMTTYPE=image/jpeg:https://schoenstatt-wuerzburg.de/wp-content/uploads/2023/12/Symbolbild-Frauenfruehstueck-2024-scaled.jpg
END:VEVENT
BEGIN:VEVENT
DTSTART;TZID=Europe/Berlin:20240718T084500
DTEND;TZID=Europe/Berlin:20240718T113000
DTSTAMP:20260421T100728
CREATED:20240109T153040Z
LAST-MODIFIED:20240109T153337Z
UID:10000125-1721292300-1721302200@schoenstatt-wuerzburg.de
SUMMARY:Frühstückstreffen für Frauen
DESCRIPTION:Thema: Froh zu sein bedarf es wenig \nWenn die Saite eines Instrumentes immer gespannt ist\, verliert sie ihren klaren Klang.\nGönnen Sie sich eine kleine AUSZEIT. Auch uns tut Entspannung im Alltag gut. Die\nFrühstückstreffen möchten Ihnen dazu Gelegenheit bieten.\nIn gelockerter Atmosphäre können wir ein reichhaltiges Frühstücksbuffet genießen\, uns\nmiteinander für Leib und Seele stärken – und uns mit anderen Frauen austauschen. \nWeitere Informationen entnehmen Sie bitte dem Flyer zum Download. \nFlyer Frauenfrühstück 2024 \n 
URL:https://schoenstatt-wuerzburg.de/event/798-fruehstueckstreffen-fuer-frauen-copy-copy-copy-copy-copy-copy/2024-07-18/
LOCATION:Schönstattzentrum Würzburg
ATTACH;FMTTYPE=image/jpeg:https://schoenstatt-wuerzburg.de/wp-content/uploads/2023/12/Symbolbild-Frauenfruehstueck-2024-scaled.jpg
END:VEVENT
BEGIN:VEVENT
DTSTART;TZID=Europe/Berlin:20240718T180000
DTEND;TZID=Europe/Berlin:20240718T180000
DTSTAMP:20260421T100728
CREATED:20240205T181139Z
LAST-MODIFIED:20240205T181809Z
UID:10000161-1721325600-1721325600@schoenstatt-wuerzburg.de
SUMMARY:Bündnisfeier
DESCRIPTION:So wie ein Geburtstag ein herausgehobener Tag im Jahr ist\, so ist jeder 18. ein besonderer Tag in jedem Monat: Er erinnert an die Geburts-Stunde Schönstatts am 18. Oktober 1914.\nEs tut gut\, mitten im Alltag einmal alles für kurze Zeit stehen und liegen zu lassen und die eigene Seele anzufüllen. \nWeitere Informationen entnehmen Sie bitte dem Flyer zum Download. \nBündnisfeiern 2024
URL:https://schoenstatt-wuerzburg.de/event/buendnisfeier-2/2024-07-18/
LOCATION:Schönstattzentrum Würzburg
ATTACH;FMTTYPE=image/jpeg:https://schoenstatt-wuerzburg.de/wp-content/uploads/2024/02/Logo-Schoenstattbewegung-Wuerzburg_Bunt_weisser-Hintergrund_mit-Text-scaled.jpg
END:VEVENT
BEGIN:VEVENT
DTSTART;VALUE=DATE:20240727
DTEND;VALUE=DATE:20240804
DTSTAMP:20260421T100728
CREATED:20240206T172525Z
LAST-MODIFIED:20240206T185613Z
UID:10000167-1722038400-1722729599@schoenstatt-wuerzburg.de
SUMMARY:Zeltlager der Schönstatt Mannesjugend (Abteilung Untermain & Main-Spessart)
DESCRIPTION:Wann? 27. Juli bis 03. August 2024 (Anreise via. Großraum-Raumschiff (Bus) – Weitere Informationen nach Anmeldung\nWo? Jugendzeltplatz Breitenbrunn; Forstweg\, 97906 Faulbach\nWer? Jungs im Alter von 9 – 15 Jahren\nKosten? Pro Teilnehmer 160 € ; Jeder weitere Bruder zahlt 150 € \nAufgrund von Kostengründen sollte niemand zu Hause bleiben! Sprecht uns gerne an! \nKontoinformationen:\nKontoinhaber: Kirchliche Jugendarbeit\, SMJ Würzburg\nIBAN: DE62 7509 0300 0903 0045 03\nVerwendungszweck: ZL2024 + Name des Kindes \nWeitere Informationen folgen nach Anmeldung per E-Mail. (smj.info-um@schoenstatt-wuerzburg.de)\nWir freuen uns auf euch!\nJohannes\, Emilio\, Tom & die Leiterrunde \n  \nAnmeldezettel_ZL_2024 \nFlyer_Zeltlager_StarWars_2024
URL:https://schoenstatt-wuerzburg.de/event/zeltlager-der-schoenstatt-mannesjugend-abteilung-untermain-main-spessart/
ATTACH;FMTTYPE=image/png:https://schoenstatt-wuerzburg.de/wp-content/uploads/2024/02/paper-1074136-1.png
END:VEVENT
BEGIN:VEVENT
DTSTART;VALUE=DATE:20240727
DTEND;VALUE=DATE:20240804
DTSTAMP:20260421T100729
CREATED:20240509T102321Z
LAST-MODIFIED:20240509T102555Z
UID:10000190-1722038400-1722729599@schoenstatt-wuerzburg.de
SUMMARY:Zeltlager der Schönstatt Mannesjugend (Abteilung Badkissingen & Würzburg)
DESCRIPTION:Wann? 27. Juli bis 03. August 2024\nWo? Am Sportplatz\, 97717 Sulzthal\nWer? Jungs im Alter von 9 – 14 Jahren\nKosten? Pro Teilnehmer 130 € ; Jeder weitere Bruder zahlt 120 € \nAufgrund von Kostengründen sollte niemand zu Hause bleiben! Sprecht uns gerne an! \nKontoinformationen:\nKontoinhaber: Kirchliche Jugendarbeit\, SMJ Würzburg\nIBAN: DE 18 7509 0300 0803 0045 03\nVerwendungszweck: ZL24 + Name des Kindes \nWeitere Informationen folgen nach Anmeldung per E-Mail. (smj.info-wue-kg@schoenstatt-wuerzburg.de)\nWir freuen uns auf euch!\nAlois\, Robin & die Leiterrunde \nOnline Anmeldung:\nhttps://bistumwuerzburg.viadesk.com/do/surveyfrontwrite?id=8854845-737572766579 \nZL Einladung 2024 Gestrandet
URL:https://schoenstatt-wuerzburg.de/event/zeltlager-der-schoenstatt-mannesjugend-abteilung-untermain-main-spessart-copy/
ATTACH;FMTTYPE=image/jpeg:https://schoenstatt-wuerzburg.de/wp-content/uploads/2024/02/IMG-20230817-WA0006.jpg
END:VEVENT
BEGIN:VEVENT
DTSTART;TZID=Europe/Berlin:20240727T093000
DTEND;TZID=Europe/Berlin:20240727T180000
DTSTAMP:20260421T100729
CREATED:20240511T134935Z
LAST-MODIFIED:20240624T155142Z
UID:10000191-1722072600-1722103200@schoenstatt-wuerzburg.de
SUMMARY:Aktionstag für unsere Marienhöhe
DESCRIPTION:Für viele Menschen ist der Garten der Marienhöhe ein Geheimtipp geworden.\nHier in der Ruhe und Schönheit der Natur können Stress und Hektik abfallen. Damit uns diese „Oase“ erhalten bleibt\, braucht es immer wieder anpackende Hände\, die den Garten „in Schuss“ halten. Darum laden wir als Vorbereitungsteam zu einem gemeinsamem Aktionstag ein.\nWir organisieren als Team alles\, was benötigt wird und laden SIE/DICH ein\, mit anzupacken.\nGemeinsam können wir viel bewegen. \nWeitere Informationen entnehmen Sie bitte dem Flyer zum Download. \nFlyer Aktionstag Juli 2024
URL:https://schoenstatt-wuerzburg.de/event/aktionstag-fuer-unsere-marienhoehe/
LOCATION:Schönstattzentrum Würzburg
ATTACH;FMTTYPE=image/jpeg:https://schoenstatt-wuerzburg.de/wp-content/uploads/2023/10/20531daedfd09f7424fbff5584b52a57.jpg
END:VEVENT
BEGIN:VEVENT
DTSTART;TZID=Europe/Berlin:20240727T170000
DTEND;TZID=Europe/Berlin:20240731T120000
DTSTAMP:20260421T100729
CREATED:20240509T070134Z
LAST-MODIFIED:20240509T070134Z
UID:10000188-1722099600-1722427200@schoenstatt-wuerzburg.de
SUMMARY:Sommerferienwoche f. Mädchen von 9-12 Jahren
DESCRIPTION:Harry Potter und das Heiligtum der Verbundenheit. \nWir freuen uns\, dir mitzuteilen\, dass du zur Sommerfewo eingeladen bist. \nWeitere Informationen findest du im Flyer zum Download. Klicke einfach hier unten auf den Link. \nSommerfewo 2024
URL:https://schoenstatt-wuerzburg.de/event/sommerferienwoche-f-maedchen-von-9-12-jahren/
LOCATION:Schönstattzentrum Marienberg Scheßlitz
ATTACH;FMTTYPE=image/png:https://schoenstatt-wuerzburg.de/wp-content/uploads/2024/05/Bildschirmfoto-2024-05-09-um-09.00.47.png
END:VEVENT
BEGIN:VEVENT
DTSTART;TZID=Europe/Berlin:20240729T143000
DTEND;TZID=Europe/Berlin:20240801T130000
DTSTAMP:20260421T100729
CREATED:20240207T163137Z
LAST-MODIFIED:20240207T163555Z
UID:10000169-1722263400-1722517200@schoenstatt-wuerzburg.de
SUMMARY:Ferientage für Mütter und ihre Kinder
DESCRIPTION:Abschalten – Impulse für die Seele – Erholung an Leib und Seele – gemeinsam Glauben erleben – Buntes Programm für Mütter und Kinder gemeinsam\, aber auch eigenes Kinderprogramm.\nAuf die Kinder warten spannende Experimente\, denn: „Ein Versuch ist es wert!“ \nMitten im Stress und in negativen Schlagzeilen Positives entdecken?\nEIN VERSUCH IST ES WERT!\nIn unserer Zeit aus dem Glauben leben und immer wieder neue Zuversicht spüren?\nEIN VERSUCH IST ES WERT!\nIn Zeiten des Unfriedens im eigenen Haus eine Oase des Friedens und der Lebensfreude schaffen?\nEIN VERSUCH IST ES WERT! \nWeitere Informationen entnehmen Sie bitte dem Flyer zum Download. \nFlyer Ferientage 2024
URL:https://schoenstatt-wuerzburg.de/event/ferientage-fuer-muetter-und-ihre-kinder/
LOCATION:Schönstattzentrum Würzburg
ATTACH;FMTTYPE=image/jpeg:https://schoenstatt-wuerzburg.de/wp-content/uploads/2024/02/Symbolbild-Ferientage-scaled.jpg
END:VEVENT
END:VCALENDAR