BEGIN:VCALENDAR
VERSION:2.0
PRODID:-//Schönstattwerk Würzburg e.V. - ECPv6.15.17//NONSGML v1.0//EN
CALSCALE:GREGORIAN
METHOD:PUBLISH
X-WR-CALNAME:Schönstattwerk Würzburg e.V.
X-ORIGINAL-URL:https://schoenstatt-wuerzburg.de
X-WR-CALDESC:Veranstaltungen für Schönstattwerk Würzburg e.V.
REFRESH-INTERVAL;VALUE=DURATION:PT1H
X-Robots-Tag:noindex
X-PUBLISHED-TTL:PT1H
BEGIN:VTIMEZONE
TZID:Europe/Berlin
BEGIN:DAYLIGHT
TZOFFSETFROM:+0100
TZOFFSETTO:+0200
TZNAME:CEST
DTSTART:20220327T010000
END:DAYLIGHT
BEGIN:STANDARD
TZOFFSETFROM:+0200
TZOFFSETTO:+0100
TZNAME:CET
DTSTART:20221030T010000
END:STANDARD
BEGIN:DAYLIGHT
TZOFFSETFROM:+0100
TZOFFSETTO:+0200
TZNAME:CEST
DTSTART:20230326T010000
END:DAYLIGHT
BEGIN:STANDARD
TZOFFSETFROM:+0200
TZOFFSETTO:+0100
TZNAME:CET
DTSTART:20231029T010000
END:STANDARD
BEGIN:DAYLIGHT
TZOFFSETFROM:+0100
TZOFFSETTO:+0200
TZNAME:CEST
DTSTART:20240331T010000
END:DAYLIGHT
BEGIN:STANDARD
TZOFFSETFROM:+0200
TZOFFSETTO:+0100
TZNAME:CET
DTSTART:20241027T010000
END:STANDARD
END:VTIMEZONE
BEGIN:VEVENT
DTSTART;TZID=Europe/Berlin:20231107T183000
DTEND;TZID=Europe/Berlin:20231107T183000
DTSTAMP:20260421T113009
CREATED:20231017T025340Z
LAST-MODIFIED:20231017T032558Z
UID:10000083-1699381800-1699381800@schoenstatt-wuerzburg.de
SUMMARY:Ein Abend nur für mich - Mütter unter sich
DESCRIPTION:Herzensmelodie\nWas ist meine persönliche Kraft-Quelle? Was hat mir z.B. früher Freude gemacht\, bevor die Kinder da waren? Eine Kraft-Quelle\, die wir gemeinsam „anzapfen“ wollen\, ist die Musik. Lieder\, die die Seele zum Schwingen bringen. \nWeitere Informationen und genaue Terminangaben entnehmen Sie bitte dem Flyer zum Download. \n\nDateien\nFlyer Muetter unter sich 2023
URL:https://schoenstatt-wuerzburg.de/event/ein-abend-nur-fuer-mich-muetter-unter-sich/
ATTACH;FMTTYPE=image/jpeg:https://schoenstatt-wuerzburg.de/wp-content/uploads/2023/10/dd64e4ebe9c6982b6b24835218866cd2.jpg
END:VEVENT
BEGIN:VEVENT
DTSTART;TZID=Europe/Berlin:20231115T084500
DTEND;TZID=Europe/Berlin:20231115T113000
DTSTAMP:20260421T113010
CREATED:20231017T025250Z
LAST-MODIFIED:20231019T033604Z
UID:10000082-1700037900-1700047800@schoenstatt-wuerzburg.de
SUMMARY:Frühstückstreffen für Frauen
DESCRIPTION:Thema: „Traubenzucker für die Seele“ \nIn Zusammenarbeit mit der KEB Würzburg. \nWeitere Informationen und genaue Terminangaben entnehmen Sie bitte dem Flyer zum Download. \nDateien\nFrauenfruehstueck 2023
URL:https://schoenstatt-wuerzburg.de/event/fruehstueckstreffen-fuer-frauen/
ATTACH;FMTTYPE=image/jpeg:https://schoenstatt-wuerzburg.de/wp-content/uploads/2023/10/f9cd5af437ba9eadde53574844fc4463.jpg
END:VEVENT
BEGIN:VEVENT
DTSTART;TZID=Europe/Berlin:20231116T084500
DTEND;TZID=Europe/Berlin:20231116T113000
DTSTAMP:20260421T113010
CREATED:20231017T015807Z
LAST-MODIFIED:20231019T033552Z
UID:10000087-1700124300-1700134200@schoenstatt-wuerzburg.de
SUMMARY:Frühstückstreffen für Frauen
DESCRIPTION:Thema: „Traubenzucker für die Seele“ \nIn Zusammenarbeit mit der KEB Würzburg. \nWeitere Informationen und genaue Terminangaben entnehmen Sie bitte dem Flyer zum Download. \nDateien\nFrauenfruehstueck 2023
URL:https://schoenstatt-wuerzburg.de/event/796-fruehstueckstreffen-fuer-frauen/
LOCATION:Schönstattzentrum Würzburg
ATTACH;FMTTYPE=image/jpeg:https://schoenstatt-wuerzburg.de/wp-content/uploads/2023/10/f9cd5af437ba9eadde53574844fc4463.jpg
END:VEVENT
BEGIN:VEVENT
DTSTART;TZID=Europe/Berlin:20231118T183000
DTEND;TZID=Europe/Berlin:20231118T183000
DTSTAMP:20260421T113010
CREATED:20231017T020054Z
LAST-MODIFIED:20231017T021359Z
UID:10000088-1700332200-1700332200@schoenstatt-wuerzburg.de
SUMMARY:Bündnisfeier
DESCRIPTION:Es tut gut\, mitten im Alltag einmal alles für kurze Zeit stehen und liegen zu lassen und die eigene Seele anzufüllen. Wir möchten in diesem Jahr eine Neugestaltung ausprobieren: Es wird keine Eucharistiefeier sein\, sondern ein Abend\, an dem die Erneuerung des Bündnisses und die familienhafte Begegnung im Vordergrund stehen. \n\nDateien\nBuendnisfeiern 2023
URL:https://schoenstatt-wuerzburg.de/event/841-buendnisfeier/
LOCATION:Schönstattzentrum Würzburg
ATTACH;FMTTYPE=image/jpeg:https://schoenstatt-wuerzburg.de/wp-content/uploads/2023/10/0d89f288ce7c747a0e98cd0f8a1b39cc.jpg
END:VEVENT
END:VCALENDAR